BEGIN:VCALENDAR
VERSION:2.0
PRODID:-//La Tour de Chartreuse - ECPv6.15.20//NONSGML v1.0//EN
CALSCALE:GREGORIAN
METHOD:PUBLISH
X-WR-CALNAME:La Tour de Chartreuse
X-ORIGINAL-URL:https://latourdechartreuse.fr
X-WR-CALDESC:Évènements pour La Tour de Chartreuse
REFRESH-INTERVAL;VALUE=DURATION:PT1H
X-Robots-Tag:noindex
X-PUBLISHED-TTL:PT1H
BEGIN:VTIMEZONE
TZID:UTC
BEGIN:STANDARD
TZOFFSETFROM:+0000
TZOFFSETTO:+0000
TZNAME:UTC
DTSTART:20250101T000000
END:STANDARD
END:VTIMEZONE
BEGIN:VEVENT
DTSTART;TZID=UTC:20260501T000000
DTEND;TZID=UTC:20260501T235959
DTSTAMP:20260422T055014
CREATED:20260323T223045Z
LAST-MODIFIED:20260409T110603Z
UID:1416-1777593600-1777679999@latourdechartreuse.fr
SUMMARY:1er "Open de Chartreuse"
DESCRIPTION:Lieu : salle Aluigi\, Bd Docteur Valois\, 38140 RENAGE \n9 rondes en 15’+5’’\, tournoi principal ouvert à tous et tournoi accession pour les -1600 Elo (pas de limite d’âge). \nPointage : 8h30 – 9h. \n80 % des inscriptions reversées en prix\, avec 300 € au vainqueur du principal\, prix par catégories. Tombola à la remise des prix. \nInfo : toutes les récompenses seront accompagnées d’un pack de vidéo offert par  apprendre-les-echecs-24h.com  \nBuvette\, restauration sur place. Venez partager un grand moment d’échecs ! \nInscription en ligne (obligatoire) : ICI
URL:https://latourdechartreuse.fr/event/1er-open-de-chartreuse/
LOCATION:Renage\, Salle Aluigi\, Bd du Docteur Valois\, Renage\, 38140\, France
ORGANIZER;CN="La Tour de Chartreuse":MAILTO:chartreuse.echecs@gmail.com
END:VEVENT
BEGIN:VEVENT
DTSTART;TZID=UTC:20260502T080000
DTEND;TZID=UTC:20260502T180000
DTSTAMP:20260422T055014
CREATED:20260308T110808Z
LAST-MODIFIED:20260308T111211Z
UID:1394-1777708800-1777744800@latourdechartreuse.fr
SUMMARY:Circuit Jeunes de l'Isère (3ème étape)
DESCRIPTION:La 3e étape du circuit jeunes de parties rapides de l’Isère aura lieu à Coublevie\, salle de l’Orangerie. \nInscription : https://chessmooc.org/web/PUCE-ins/tournoi.php?id=231 \nTous les renseignements utiles en cliquant sur cette affiche :
URL:https://latourdechartreuse.fr/event/circuit-jeunes-de-lisere-3eme-etape-2/
LOCATION:Coublevie
ORGANIZER;CN="CDJE38":MAILTO:cdjeisere38@gmail.com
END:VEVENT
BEGIN:VEVENT
DTSTART;TZID=UTC:20260509T123000
DTEND;TZID=UTC:20260509T180000
DTSTAMP:20260422T055014
CREATED:20260308T111137Z
LAST-MODIFIED:20260308T111137Z
UID:1403-1778329800-1778349600@latourdechartreuse.fr
SUMMARY:Circuit Jeunes de l'Isère (4ème étape)
DESCRIPTION:La 4e étape du circuit jeunes de parties rapides de l’Isère aura lieu à Saint-Clair-du-Rhône \n(infos à venir)
URL:https://latourdechartreuse.fr/event/circuit-jeunes-de-lisere-4eme-etape-2/
LOCATION:Saint-Clair-du-Rhône\, 38370\, France
ORGANIZER;CN="CDJE38":MAILTO:cdjeisere38@gmail.com
END:VEVENT
END:VCALENDAR